BEGIN:VCALENDAR
VERSION:2.0
PRODID:-//Brickhill Parish Council - ECPv6.15.11//NONSGML v1.0//EN
CALSCALE:GREGORIAN
METHOD:PUBLISH
X-ORIGINAL-URL:https://brickhillparishcouncil.gov.uk
X-WR-CALDESC:Events for Brickhill Parish Council
REFRESH-INTERVAL;VALUE=DURATION:PT1H
X-Robots-Tag:noindex
X-PUBLISHED-TTL:PT1H
BEGIN:VTIMEZONE
TZID:Europe/London
BEGIN:DAYLIGHT
TZOFFSETFROM:+0000
TZOFFSETTO:+0100
TZNAME:BST
DTSTART:20220327T010000
END:DAYLIGHT
BEGIN:STANDARD
TZOFFSETFROM:+0100
TZOFFSETTO:+0000
TZNAME:GMT
DTSTART:20221030T010000
END:STANDARD
BEGIN:DAYLIGHT
TZOFFSETFROM:+0000
TZOFFSETTO:+0100
TZNAME:BST
DTSTART:20230326T010000
END:DAYLIGHT
BEGIN:STANDARD
TZOFFSETFROM:+0100
TZOFFSETTO:+0000
TZNAME:GMT
DTSTART:20231029T010000
END:STANDARD
BEGIN:DAYLIGHT
TZOFFSETFROM:+0000
TZOFFSETTO:+0100
TZNAME:BST
DTSTART:20240331T010000
END:DAYLIGHT
BEGIN:STANDARD
TZOFFSETFROM:+0100
TZOFFSETTO:+0000
TZNAME:GMT
DTSTART:20241027T010000
END:STANDARD
END:VTIMEZONE
BEGIN:VEVENT
DTSTART;TZID=Europe/London:20231205T174500
DTEND;TZID=Europe/London:20231205T183000
DTSTAMP:20260422T205614
CREATED:20230329T165810Z
LAST-MODIFIED:20230329T165918Z
UID:5479-1701798300-1701801000@brickhillparishcouncil.gov.uk
SUMMARY:Christmas Tree Lights Turn On 2023
DESCRIPTION:The Switch On of Brickhill’s Christmas Tree Lights 2023! \n\nVenue – Waveney Green\nTime & Date – Tuesday 5th December 2023 at 5.45pm
URL:https://brickhillparishcouncil.gov.uk/event/christmas-tree-lights-turn-on-2023
LOCATION:Waveney Green\, Brickhill\, Bedford\, Bedfordshire\, MK41 7BX\, United Kingdom
CATEGORIES:Community
ATTACH;FMTTYPE=image/jpeg:https://brickhillparishcouncil.gov.uk/wp-content/uploads/2020/09/christmas-lights-turn-on.jpg
ORGANIZER;CN="Brickhill Parish Council":MAILTO:clerk@brickhillparishcouncil.gov.uk
END:VEVENT
END:VCALENDAR